BEGIN:VCALENDAR
METHOD:REQUEST
PRODID:-//events.orgNONSGML ical.net 4.0//EN
VERSION:2.0
BEGIN:VEVENT
DTEND;VALUE=DATE:20261017
DTSTAMP:20260421T114654Z
DTSTART;VALUE=DATE:20261017
LOCATION:MIDFLORIDA Credit Union Amphitheatre at the FL State Fairgrounds\
 , Tampa
ORGANIZER;CN=:mailto:events@events.org
SEQUENCE:0
SUMMARY:$uicideboy$ present Grey Day Tour 2026 w. Shakewell & more
UID:62aef7fd-251f-4f13-b04c-62c91cb0f2fc
URL:https://events.org/e/uicideboy-present-Grey-Day-Tour-2026-w-Shakew/362
 GK4ML
BEGIN:VALARM
ACTION:DISPLAY
SUMMARY:Reminder
TRIGGER:-P1D
END:VALARM
END:VEVENT
END:VCALENDAR
