BEGIN:VCALENDAR
METHOD:REQUEST
PRODID:-//events.orgNONSGML ical.net 4.0//EN
VERSION:2.0
BEGIN:VEVENT
DTEND;VALUE=DATE:20260621
DTSTAMP:20260419T143154Z
DTSTART;VALUE=DATE:20260621
LOCATION:The Van Buren\, Phoenix
ORGANIZER;CN=:mailto:events@events.org
SEQUENCE:0
SUMMARY:idobi Radio Summer School w/ Honey Revenge & more
UID:7b110731-bbd0-436e-9277-82e79387a303
URL:https://events.org/e/idobi-Radio-Summer-School-w-Honey-Revenge-more/XU
 FL98HO
BEGIN:VALARM
ACTION:DISPLAY
SUMMARY:Reminder
TRIGGER:-P1D
END:VALARM
END:VEVENT
END:VCALENDAR
