BEGIN:VCALENDAR
METHOD:REQUEST
PRODID:-//events.orgNONSGML ical.net 4.0//EN
VERSION:2.0
BEGIN:VEVENT
DTEND;VALUE=DATE:20260604
DTSTAMP:20260422T090044Z
DTSTART;VALUE=DATE:20260604
LOCATION:The Studio at the Factory\, Dallas
ORGANIZER;CN=:mailto:events@events.org
SEQUENCE:0
SUMMARY:underscores (16 and under with legal guardian)
UID:4ee6238c-941a-48ad-9916-5e74a82f8d01
URL:https://events.org/e/underscores-16-and-under-with-legal-guardian/54JL
 MX9R
BEGIN:VALARM
ACTION:DISPLAY
SUMMARY:Reminder
TRIGGER:-P1D
END:VALARM
END:VEVENT
END:VCALENDAR
