BEGIN:VCALENDAR
METHOD:REQUEST
PRODID:-//events.orgNONSGML ical.net 4.0//EN
VERSION:2.0
BEGIN:VEVENT
DTEND;VALUE=DATE:20260506
DTSTAMP:20260421T095435Z
DTSTART;VALUE=DATE:20260506
LOCATION:Upright Citizens Brigade Theatre\, Los Angeles
ORGANIZER;CN=:mailto:events@events.org
SEQUENCE:0
SUMMARY:Netflix Is A Joke Presents: Kerry Coddett: Mudhole
UID:a2ed4963-d29a-4368-a28a-78b0b93b1580
URL:https://events.org/e/Netflix-Is-A-Joke-Presents-Kerry-Coddett-Mudhole/
 8UVJLY9C
BEGIN:VALARM
ACTION:DISPLAY
SUMMARY:Reminder
TRIGGER:-P1D
END:VALARM
END:VEVENT
END:VCALENDAR
