BEGIN:VCALENDAR
METHOD:REQUEST
PRODID:-//events.orgNONSGML ical.net 4.0//EN
VERSION:2.0
BEGIN:VEVENT
DTEND;VALUE=DATE:20260612
DTSTAMP:20260422T091023Z
DTSTART;VALUE=DATE:20260612
LOCATION:Feinstein's at The Nikko\, San Francisco
ORGANIZER;CN=:mailto:events@events.org
SEQUENCE:0
SUMMARY:An Intimate Evening with Lorna Luft
UID:79896738-606c-415b-9761-83f099d65433
URL:https://events.org/e/An-Intimate-Evening-with-Lorna-Luft/W3E6JY2B
BEGIN:VALARM
ACTION:DISPLAY
SUMMARY:Reminder
TRIGGER:-P1D
END:VALARM
END:VEVENT
END:VCALENDAR
