BEGIN:VCALENDAR
METHOD:REQUEST
PRODID:-//events.orgNONSGML ical.net 4.0//EN
VERSION:2.0
BEGIN:VEVENT
DTEND;VALUE=DATE:20260612
DTSTAMP:20260421T144601Z
DTSTART;VALUE=DATE:20260612
LOCATION:JUNKYARD\, Denver
ORGANIZER;CN=:mailto:events@events.org
SEQUENCE:0
SUMMARY:KID CUDI PRESENTS: THE REBEL RAGERS TOUR 2026
UID:cb0ef887-d248-41ca-be50-ea2461bd0376
URL:https://events.org/e/KID-CUDI-PRESENTS-THE-REBEL-RAGERS-TOUR-2026/IVDO
 9Q5X
BEGIN:VALARM
ACTION:DISPLAY
SUMMARY:Reminder
TRIGGER:-P1D
END:VALARM
END:VEVENT
END:VCALENDAR
