BEGIN:VCALENDAR
METHOD:REQUEST
PRODID:-//events.orgNONSGML ical.net 4.0//EN
VERSION:2.0
BEGIN:VEVENT
DTEND;VALUE=DATE:20260430
DTSTAMP:20260424T080630Z
DTSTART;VALUE=DATE:20260430
LOCATION:Granada Theater - TX\, Dallas
ORGANIZER;CN=:mailto:events@events.org
SEQUENCE:0
SUMMARY:Goldford w/ Madeline Edwards
UID:c3f12800-9b00-4a9d-a41f-b8f31b5b263b
URL:https://events.org/e/Goldford-w-Madeline-Edwards/GAWO2AKY
BEGIN:VALARM
ACTION:DISPLAY
SUMMARY:Reminder
TRIGGER:-P1D
END:VALARM
END:VEVENT
END:VCALENDAR
