BEGIN:VCALENDAR
METHOD:REQUEST
PRODID:-//events.orgNONSGML ical.net 4.0//EN
VERSION:2.0
BEGIN:VEVENT
DTEND;VALUE=DATE:20260509
DTSTAMP:20260425T103208Z
DTSTART;VALUE=DATE:20260509
LOCATION:Just the Funny\, Miami
ORGANIZER;CN=:mailto:events@events.org
SEQUENCE:0
SUMMARY:The BIG Show Improv Comedy Miami
UID:20eddba4-9202-42db-9203-084bd366899e
URL:https://events.org/e/The-BIG-Show-Improv-Comedy-Miami/EUYX97VH
BEGIN:VALARM
ACTION:DISPLAY
SUMMARY:Reminder
TRIGGER:-P1D
END:VALARM
END:VEVENT
END:VCALENDAR
