BEGIN:VCALENDAR
METHOD:REQUEST
PRODID:-//events.orgNONSGML ical.net 4.0//EN
VERSION:2.0
BEGIN:VEVENT
DTEND;VALUE=DATE:20260522
DTSTAMP:20260422T091936Z
DTSTART;VALUE=DATE:20260522
LOCATION:Carol's Pub\, Chicago
ORGANIZER;CN=:mailto:events@events.org
SEQUENCE:0
SUMMARY:Wire & Nail
UID:4180b9e1-4197-4e10-aa2e-f5ddbf918582
URL:https://events.org/e/Wire-Nail/O3R2IWJ2
BEGIN:VALARM
ACTION:DISPLAY
SUMMARY:Reminder
TRIGGER:-P1D
END:VALARM
END:VEVENT
END:VCALENDAR
