BEGIN:VCALENDAR
METHOD:REQUEST
PRODID:-//events.orgNONSGML ical.net 4.0//EN
VERSION:2.0
BEGIN:VEVENT
DTEND;VALUE=DATE:20260429
DTSTAMP:20260422T091845Z
DTSTART;VALUE=DATE:20260429
LOCATION:Crescent Ballroom\, Phoenix
ORGANIZER;CN=:mailto:events@events.org
SEQUENCE:0
SUMMARY:MARLOMA 'NATALIE' EP RELEASE SHOW
UID:cc52d820-1d9e-4c6b-a341-302d249c5602
URL:https://events.org/e/MARLOMA-NATALIE-EP-RELEASE-SHOW/56QVMTPC
BEGIN:VALARM
ACTION:DISPLAY
SUMMARY:Reminder
TRIGGER:-P1D
END:VALARM
END:VEVENT
END:VCALENDAR
