BEGIN:VCALENDAR
METHOD:REQUEST
PRODID:-//events.orgNONSGML ical.net 4.0//EN
VERSION:2.0
BEGIN:VEVENT
DTEND;VALUE=DATE:20260614
DTSTAMP:20260421T103726Z
DTSTART;VALUE=DATE:20260614
LOCATION:Paramount Theatre\, Denver
ORGANIZER;CN=:mailto:events@events.org
SEQUENCE:0
SUMMARY:AARON LEWIS AND THE STATELINERS: 2026 AMERICAN TOUR
UID:7ff1541c-9c42-47f1-80c2-a1375abd1381
URL:https://events.org/e/AARON-LEWIS-AND-THE-STATELINERS-2026-AMERICAN-TOU
 R/KMP2KY7X
BEGIN:VALARM
ACTION:DISPLAY
SUMMARY:Reminder
TRIGGER:-P1D
END:VALARM
END:VEVENT
END:VCALENDAR
