BEGIN:VCALENDAR
METHOD:REQUEST
PRODID:-//events.orgNONSGML ical.net 4.0//EN
VERSION:2.0
BEGIN:VEVENT
DTEND;VALUE=DATE:20260524
DTSTAMP:20260422T091217Z
DTSTART;VALUE=DATE:20260524
LOCATION:Greenhouse Theater Center\, Chicago
ORGANIZER;CN=:mailto:events@events.org
SEQUENCE:0
SUMMARY:The Hula Hoopin' Queen
UID:9c0da59e-f6ff-41f3-bced-2ca8bc0d7588
URL:https://events.org/e/The-Hula-Hoopin-Queen/JJU73J9K
BEGIN:VALARM
ACTION:DISPLAY
SUMMARY:Reminder
TRIGGER:-P1D
END:VALARM
END:VEVENT
END:VCALENDAR
