BEGIN:VCALENDAR
METHOD:REQUEST
PRODID:-//events.orgNONSGML ical.net 4.0//EN
VERSION:2.0
BEGIN:VEVENT
DTEND;VALUE=DATE:20260913
DTSTAMP:20260422T090635Z
DTSTART;VALUE=DATE:20260913
LOCATION:The Foundry\, Philadelphia
ORGANIZER;CN=:mailto:events@events.org
SEQUENCE:0
SUMMARY:Dua Saleh
UID:367c65a4-107f-4b37-affb-7e2cef784018
URL:https://events.org/e/Dua-Saleh/YQGLQXVU
BEGIN:VALARM
ACTION:DISPLAY
SUMMARY:Reminder
TRIGGER:-P1D
END:VALARM
END:VEVENT
END:VCALENDAR
