BEGIN:VCALENDAR
METHOD:REQUEST
PRODID:-//events.orgNONSGML ical.net 4.0//EN
VERSION:2.0
BEGIN:VEVENT
DTEND;VALUE=DATE:20260507
DTSTAMP:20260421T101325Z
DTSTART;VALUE=DATE:20260507
LOCATION:Dynasty Typewriter at the Hayworth\, Los Angeles
ORGANIZER;CN=:mailto:events@events.org
SEQUENCE:0
SUMMARY:Netflix is a Joke Presents: The Legend of Crystal Shell
UID:9317bc34-1911-4880-8fcb-233ada7a275a
URL:https://events.org/e/Netflix-is-a-Joke-Presents-The-Legend-of-Crys/AEX
 GD4KW
BEGIN:VALARM
ACTION:DISPLAY
SUMMARY:Reminder
TRIGGER:-P1D
END:VALARM
END:VEVENT
END:VCALENDAR
