BEGIN:VCALENDAR
METHOD:REQUEST
PRODID:-//events.orgNONSGML ical.net 4.0//EN
VERSION:2.0
BEGIN:VEVENT
DTEND;VALUE=DATE:20260508
DTSTAMP:20260423T133811Z
DTSTART;VALUE=DATE:20260508
LOCATION:Masonic Lodge at Hollywood Forever\, Los Angeles
ORGANIZER;CN=:mailto:events@events.org
SEQUENCE:0
SUMMARY:Netflix Is A Joke Presents: Charlene Kaye
UID:71f71de7-1822-4239-a325-7a56ad8923b7
URL:https://events.org/e/Netflix-Is-A-Joke-Presents-Charlene-Kaye/4WD82DRI
BEGIN:VALARM
ACTION:DISPLAY
SUMMARY:Reminder
TRIGGER:-P1D
END:VALARM
END:VEVENT
END:VCALENDAR
