BEGIN:VCALENDAR
METHOD:REQUEST
PRODID:-//events.orgNONSGML ical.net 4.0//EN
VERSION:2.0
BEGIN:VEVENT
DTEND;VALUE=DATE:20260514
DTSTAMP:20260419T143702Z
DTSTART;VALUE=DATE:20260514
LOCATION:House of Blues Houston\, Houston
ORGANIZER;CN=:mailto:events@events.org
SEQUENCE:0
SUMMARY:Sons of Legion - Soul to SØL Tour
UID:9fb5da5b-30ad-4494-98ec-d0b0a662df99
URL:https://events.org/e/Sons-of-Legion---Soul-to-SOL-Tour/Y4YTEGTK
BEGIN:VALARM
ACTION:DISPLAY
SUMMARY:Reminder
TRIGGER:-P1D
END:VALARM
END:VEVENT
END:VCALENDAR
