BEGIN:VCALENDAR
METHOD:REQUEST
PRODID:-//events.orgNONSGML ical.net 4.0//EN
VERSION:2.0
BEGIN:VEVENT
DTEND;VALUE=DATE:20260916
DTSTAMP:20260420T131325Z
DTSTART;VALUE=DATE:20260916
LOCATION:Armory\, Minneapolis
ORGANIZER;CN=:mailto:events@events.org
SEQUENCE:0
SUMMARY:Lily Allen Performs West End Girl
UID:43355768-e3e7-41c6-baf0-f5de4178d1dc
URL:https://events.org/e/Lily-Allen-Performs-West-End-Girl/PA9AQIAY
BEGIN:VALARM
ACTION:DISPLAY
SUMMARY:Reminder
TRIGGER:-P1D
END:VALARM
END:VEVENT
END:VCALENDAR
