BEGIN:VCALENDAR
METHOD:REQUEST
PRODID:-//events.orgNONSGML ical.net 4.0//EN
VERSION:2.0
BEGIN:VEVENT
DTEND;VALUE=DATE:20260426
DTSTAMP:20260422T084233Z
DTSTART;VALUE=DATE:20260426
LOCATION:Ambassador Theatre\, New York
ORGANIZER;CN=:mailto:events@events.org
SEQUENCE:0
SUMMARY:Chicago
UID:717a337d-d3b4-4450-aba3-b60d62af3890
URL:https://events.org/e/Chicago/SBXMTD44
BEGIN:VALARM
ACTION:DISPLAY
SUMMARY:Reminder
TRIGGER:-P1D
END:VALARM
END:VEVENT
END:VCALENDAR
