BEGIN:VCALENDAR
METHOD:REQUEST
PRODID:-//events.orgNONSGML ical.net 4.0//EN
VERSION:2.0
BEGIN:VEVENT
DTEND;VALUE=DATE:20260530
DTSTAMP:20260421T082027Z
DTSTART;VALUE=DATE:20260530
LOCATION:The Masquerade - Heaven\, Atlanta
ORGANIZER;CN=:mailto:events@events.org
SEQUENCE:0
SUMMARY:Electric Feels | 18+
UID:be245fcf-0834-4f98-bca3-6bb5cce449fd
URL:https://events.org/e/Electric-Feels-18/VOFSWYYQ
BEGIN:VALARM
ACTION:DISPLAY
SUMMARY:Reminder
TRIGGER:-P1D
END:VALARM
END:VEVENT
END:VCALENDAR
