BEGIN:VCALENDAR
METHOD:REQUEST
PRODID:-//events.orgNONSGML ical.net 4.0//EN
VERSION:2.0
BEGIN:VEVENT
DTEND:20260922T162800Z
DTSTAMP:20260422T202544Z
DTSTART:20260921T162800Z
LOCATION:Boston MedFlight\, 150 Hanscom Drive\, Bedford\, MA\, USA
ORGANIZER;CN=Boston MedFlight:mailto:events@events.org
SEQUENCE:0
SUMMARY:The Difficult Airway - Sept 2026
UID:c6df5450-28fa-4633-8704-f94948605344
URL:https://events.org/e/The-Difficult-Airway---Sept-2026/LY5TEFXTE8
BEGIN:VALARM
ACTION:DISPLAY
SUMMARY:Reminder
TRIGGER:-P1D
END:VALARM
END:VEVENT
END:VCALENDAR
