BEGIN:VCALENDAR
METHOD:REQUEST
PRODID:-//events.orgNONSGML ical.net 4.0//EN
VERSION:2.0
BEGIN:VEVENT
DTEND;VALUE=DATE:20260515
DTSTAMP:20260419T125927Z
DTSTART;VALUE=DATE:20260515
LOCATION:Pacific Electric\, Los Angeles
ORGANIZER;CN=:mailto:events@events.org
SEQUENCE:0
SUMMARY:Escape Presents Between Us
UID:d2a2e90b-53f2-4aa4-a55b-8076a1573513
URL:https://events.org/e/Escape-Presents-Between-Us/32L7RCC9
BEGIN:VALARM
ACTION:DISPLAY
SUMMARY:Reminder
TRIGGER:-P1D
END:VALARM
END:VEVENT
END:VCALENDAR
