BEGIN:VCALENDAR
METHOD:REQUEST
PRODID:-//events.orgNONSGML ical.net 4.0//EN
VERSION:2.0
BEGIN:VEVENT
DTEND;VALUE=DATE:20260526
DTSTAMP:20260422T083812Z
DTSTART;VALUE=DATE:20260526
LOCATION:Chase Field\, Phoenix
ORGANIZER;CN=:mailto:events@events.org
SEQUENCE:0
SUMMARY:Chase Field Stadium Tours
UID:bc38280d-334d-44b9-9eb9-6cfa7b877a1f
URL:https://events.org/e/Chase-Field-Stadium-Tours/58GEF8TV
BEGIN:VALARM
ACTION:DISPLAY
SUMMARY:Reminder
TRIGGER:-P1D
END:VALARM
END:VEVENT
END:VCALENDAR
