BEGIN:VCALENDAR
METHOD:REQUEST
PRODID:-//events.orgNONSGML ical.net 4.0//EN
VERSION:2.0
BEGIN:VEVENT
DTEND;VALUE=DATE:20260523
DTSTAMP:20260422T091353Z
DTSTART;VALUE=DATE:20260523
LOCATION:The Salt Shed Outdoors (Fairgrounds)\, Chicago
ORGANIZER;CN=:mailto:events@events.org
SEQUENCE:0
SUMMARY:Warm Love Cool Dreams - 2 DAY PASS
UID:8b3ff2cf-632e-46d3-ad16-3153d4e066ce
URL:https://events.org/e/Warm-Love-Cool-Dreams---2-DAY-PASS/SSSII9EM
BEGIN:VALARM
ACTION:DISPLAY
SUMMARY:Reminder
TRIGGER:-P1D
END:VALARM
END:VEVENT
END:VCALENDAR
