BEGIN:VCALENDAR
METHOD:REQUEST
PRODID:-//events.orgNONSGML ical.net 4.0//EN
VERSION:2.0
BEGIN:VEVENT
DTEND;VALUE=DATE:20260523
DTSTAMP:20260422T091806Z
DTSTART;VALUE=DATE:20260523
LOCATION:Bottom Lounge\, Chicago
ORGANIZER;CN=:mailto:events@events.org
SEQUENCE:0
SUMMARY:The Decibel Magazine Tour 2026
UID:1fcd0d27-f838-4416-888a-52ce4b9f2453
URL:https://events.org/e/The-Decibel-Magazine-Tour-2026/6ADP9IB3
BEGIN:VALARM
ACTION:DISPLAY
SUMMARY:Reminder
TRIGGER:-P1D
END:VALARM
END:VEVENT
END:VCALENDAR
