BEGIN:VCALENDAR
METHOD:REQUEST
PRODID:-//events.orgNONSGML ical.net 4.0//EN
VERSION:2.0
BEGIN:VEVENT
DTEND;VALUE=DATE:20260422
DTSTAMP:20260422T090646Z
DTSTART;VALUE=DATE:20260422
LOCATION:Westside Theatre Upstairs - NY\, New York
ORGANIZER;CN=:mailto:events@events.org
SEQUENCE:0
SUMMARY:Little Shop of Horrors
UID:f9c3debc-d417-40f2-8a6b-3db0ab696b27
URL:https://events.org/e/Little-Shop-of-Horrors/MKL8G94N
BEGIN:VALARM
ACTION:DISPLAY
SUMMARY:Reminder
TRIGGER:-P1D
END:VALARM
END:VEVENT
END:VCALENDAR
