BEGIN:VCALENDAR
METHOD:REQUEST
PRODID:-//events.orgNONSGML ical.net 4.0//EN
VERSION:2.0
BEGIN:VEVENT
DTEND;VALUE=DATE:20260610
DTSTAMP:20260421T104012Z
DTSTART;VALUE=DATE:20260610
LOCATION:Marquis\, Denver
ORGANIZER;CN=:mailto:events@events.org
SEQUENCE:0
SUMMARY:Worm - Total Possession of America
UID:0f848a1f-2af1-4a7d-8318-ce3fef07b1ed
URL:https://events.org/e/Worm---Total-Possession-of-America/2CNTDLX6
BEGIN:VALARM
ACTION:DISPLAY
SUMMARY:Reminder
TRIGGER:-P1D
END:VALARM
END:VEVENT
END:VCALENDAR
