BEGIN:VCALENDAR
METHOD:REQUEST
PRODID:-//events.orgNONSGML ical.net 4.0//EN
VERSION:2.0
BEGIN:VEVENT
DTEND;VALUE=DATE:20260622
DTSTAMP:20260422T090541Z
DTSTART;VALUE=DATE:20260622
LOCATION:The Showbox\, Seattle
ORGANIZER;CN=:mailto:events@events.org
SEQUENCE:0
SUMMARY:RX Bandits
UID:0035595a-ad4d-461c-851b-00004d731fe1
URL:https://events.org/e/RX-Bandits/X4ORWNPV
BEGIN:VALARM
ACTION:DISPLAY
SUMMARY:Reminder
TRIGGER:-P1D
END:VALARM
END:VEVENT
END:VCALENDAR
