BEGIN:VCALENDAR
METHOD:REQUEST
PRODID:-//events.orgNONSGML ical.net 4.0//EN
VERSION:2.0
BEGIN:VEVENT
DTEND;VALUE=DATE:20260522
DTSTAMP:20260423T133632Z
DTSTART;VALUE=DATE:20260522
LOCATION:The National Theatre\, Washington
ORGANIZER;CN=:mailto:events@events.org
SEQUENCE:0
SUMMARY:The Great Gatsby (Touring)
UID:95585b43-78db-42c0-b77d-b94d0ca9898f
URL:https://events.org/e/The-Great-Gatsby-Touring/QDGSFCL7
BEGIN:VALARM
ACTION:DISPLAY
SUMMARY:Reminder
TRIGGER:-P1D
END:VALARM
END:VEVENT
END:VCALENDAR
