BEGIN:VCALENDAR
METHOD:REQUEST
PRODID:-//events.orgNONSGML ical.net 4.0//EN
VERSION:2.0
BEGIN:VEVENT
DTEND;VALUE=DATE:20260609
DTSTAMP:20260419T165450Z
DTSTART;VALUE=DATE:20260609
LOCATION:The Independent\, San Francisco
ORGANIZER;CN=:mailto:events@events.org
SEQUENCE:0
SUMMARY:Searows
UID:85c826e0-1672-4a99-bca4-56b7a624ad83
URL:https://events.org/e/Searows/MCSUO76A
BEGIN:VALARM
ACTION:DISPLAY
SUMMARY:Reminder
TRIGGER:-P1D
END:VALARM
END:VEVENT
END:VCALENDAR
