BEGIN:VCALENDAR
METHOD:REQUEST
PRODID:-//events.orgNONSGML ical.net 4.0//EN
VERSION:2.0
BEGIN:VEVENT
DTEND;VALUE=DATE:20260605
DTSTAMP:20260421T104852Z
DTSTART;VALUE=DATE:20260605
LOCATION:Coors Field\, Denver
ORGANIZER;CN=:mailto:events@events.org
SEQUENCE:0
SUMMARY:Colorado Rockies vs. Milwaukee Brewers
UID:81435b7c-c787-45f9-94b4-d3438bd53bcd
URL:https://events.org/e/Colorado-Rockies-vs-Milwaukee-Brewers/V2U686JG
BEGIN:VALARM
ACTION:DISPLAY
SUMMARY:Reminder
TRIGGER:-P1D
END:VALARM
END:VEVENT
END:VCALENDAR
