BEGIN:VCALENDAR
METHOD:REQUEST
PRODID:-//events.orgNONSGML ical.net 4.0//EN
VERSION:2.0
BEGIN:VEVENT
DTEND;VALUE=DATE:20260807
DTSTAMP:20260422T091503Z
DTSTART;VALUE=DATE:20260807
LOCATION:NRG Stadium\, Houston
ORGANIZER;CN=:mailto:events@events.org
SEQUENCE:0
SUMMARY:Ringling Bros. and Barnum & Bailey presents The Greatest Show On E
 arth
UID:c09163f1-0642-47be-9b4b-c65f93c7d32c
URL:https://events.org/e/Ringling-Bros-and-Barnum-Bailey-presents-The/YAJH
 I2L4
BEGIN:VALARM
ACTION:DISPLAY
SUMMARY:Reminder
TRIGGER:-P1D
END:VALARM
END:VEVENT
END:VCALENDAR
