BEGIN:VCALENDAR
METHOD:REQUEST
PRODID:-//events.orgNONSGML ical.net 4.0//EN
VERSION:2.0
BEGIN:VEVENT
DTEND;VALUE=DATE:20260903
DTSTAMP:20260422T083924Z
DTSTART;VALUE=DATE:20260903
LOCATION:Detroit Opera House\, Detroit
ORGANIZER;CN=:mailto:events@events.org
SEQUENCE:0
SUMMARY:Labrinth - The Undoing Tour Presented by the cosmic opera
UID:1272fe4c-7c05-49e6-9a17-6b8ddf560b61
URL:https://events.org/e/Labrinth---The-Undoing-Tour-Presented-by-the/5YOL
 5B2U
BEGIN:VALARM
ACTION:DISPLAY
SUMMARY:Reminder
TRIGGER:-P1D
END:VALARM
END:VEVENT
END:VCALENDAR
