BEGIN:VCALENDAR
METHOD:REQUEST
PRODID:-//events.orgNONSGML ical.net 4.0//EN
VERSION:2.0
BEGIN:VEVENT
DTEND;VALUE=DATE:20260509
DTSTAMP:20260423T094111Z
DTSTART;VALUE=DATE:20260509
LOCATION:TSDMAAC (Crypt)\, Detroit
ORGANIZER;CN=:mailto:events@events.org
SEQUENCE:0
SUMMARY:Bellas x Voodoo 2026 Freshman Class
UID:bb49d707-0d31-4e91-9ebf-f56daba8523e
URL:https://events.org/e/Bellas-x-Voodoo-2026-Freshman-Class/JNA49X2X
BEGIN:VALARM
ACTION:DISPLAY
SUMMARY:Reminder
TRIGGER:-P1D
END:VALARM
END:VEVENT
END:VCALENDAR
