BEGIN:VCALENDAR
METHOD:REQUEST
PRODID:-//events.orgNONSGML ical.net 4.0//EN
VERSION:2.0
BEGIN:VEVENT
DTEND;VALUE=DATE:20260527
DTSTAMP:20260421T094354Z
DTSTART;VALUE=DATE:20260527
LOCATION:The Masquerade - Hell\, Atlanta
ORGANIZER;CN=:mailto:events@events.org
SEQUENCE:0
SUMMARY:DEATH ANGEL - ACT III Tour
UID:c1ffdeef-f5b1-4ea1-9dbe-849a7e52013b
URL:https://events.org/e/DEATH-ANGEL---ACT-III-Tour/55DWA6CL
BEGIN:VALARM
ACTION:DISPLAY
SUMMARY:Reminder
TRIGGER:-P1D
END:VALARM
END:VEVENT
END:VCALENDAR
