BEGIN:VCALENDAR
METHOD:REQUEST
PRODID:-//events.orgNONSGML ical.net 4.0//EN
VERSION:2.0
BEGIN:VEVENT
DTEND;VALUE=DATE:20260731
DTSTAMP:20260422T084611Z
DTSTART;VALUE=DATE:20260731
LOCATION:Voodoo Room at the House of Blues San Diego\, San Diego
ORGANIZER;CN=:mailto:events@events.org
SEQUENCE:0
SUMMARY:Kevian Kraemer
UID:343035fb-e916-4007-99b0-42e1cf932299
URL:https://events.org/e/Kevian-Kraemer/HEL4Q8EG
BEGIN:VALARM
ACTION:DISPLAY
SUMMARY:Reminder
TRIGGER:-P1D
END:VALARM
END:VEVENT
END:VCALENDAR
