BEGIN:VCALENDAR
METHOD:REQUEST
PRODID:-//events.orgNONSGML ical.net 4.0//EN
VERSION:2.0
BEGIN:VEVENT
DTEND;VALUE=DATE:20260508
DTSTAMP:20260423T133752Z
DTSTART;VALUE=DATE:20260508
LOCATION:Fox Theatre - Atlanta\, Atlanta
ORGANIZER;CN=:mailto:events@events.org
SEQUENCE:0
SUMMARY:Dil Chahta Hai
UID:592a34a5-3f2d-4bf6-8fae-7e607426f408
URL:https://events.org/e/Dil-Chahta-Hai/AV52983W
BEGIN:VALARM
ACTION:DISPLAY
SUMMARY:Reminder
TRIGGER:-P1D
END:VALARM
END:VEVENT
END:VCALENDAR
