BEGIN:VCALENDAR
METHOD:REQUEST
PRODID:-//events.orgNONSGML ical.net 4.0//EN
VERSION:2.0
BEGIN:VEVENT
DTEND;VALUE=DATE:20260423
DTSTAMP:20260421T104310Z
DTSTART;VALUE=DATE:20260423
LOCATION:Brick & Mortar Music Hall\, San Francisco
ORGANIZER;CN=:mailto:events@events.org
SEQUENCE:0
SUMMARY:Live From the Bay At Brick & Mortar Ð¶ (San Francisco\, Ca)
UID:e31c3e0c-1270-4f2d-9595-c62f70d4a079
URL:https://events.org/e/Live-From-the-Bay-At-Brick-Mortar-D-San-Franc/NXY
 77HB6
BEGIN:VALARM
ACTION:DISPLAY
SUMMARY:Reminder
TRIGGER:-P1D
END:VALARM
END:VEVENT
END:VCALENDAR
