BEGIN:VCALENDAR
METHOD:REQUEST
PRODID:-//events.orgNONSGML ical.net 4.0//EN
VERSION:2.0
BEGIN:VEVENT
DTEND;VALUE=DATE:20260615
DTSTAMP:20260424T082503Z
DTSTART;VALUE=DATE:20260615
LOCATION:Punch Line Philly Callback Bar\, Philadelphia
ORGANIZER;CN=:mailto:events@events.org
SEQUENCE:0
SUMMARY:Punch Line Philly Open Mic Night
UID:88f494c0-ab40-4bba-a689-819f11ce860f
URL:https://events.org/e/Punch-Line-Philly-Open-Mic-Night/AAJORFV6
BEGIN:VALARM
ACTION:DISPLAY
SUMMARY:Reminder
TRIGGER:-P1D
END:VALARM
END:VEVENT
END:VCALENDAR
