BEGIN:VCALENDAR
METHOD:REQUEST
PRODID:-//events.orgNONSGML ical.net 4.0//EN
VERSION:2.0
BEGIN:VEVENT
DTEND;VALUE=DATE:20260816
DTSTAMP:20260424T092046Z
DTSTART;VALUE=DATE:20260816
LOCATION:Improv Comedy Club- DC\, Washington
ORGANIZER;CN=:mailto:events@events.org
SEQUENCE:0
SUMMARY:Rosebud Baker
UID:da3c2218-29a5-4744-a2b1-99d7acb6661a
URL:https://events.org/e/Rosebud-Baker/SC3PO4CU
BEGIN:VALARM
ACTION:DISPLAY
SUMMARY:Reminder
TRIGGER:-P1D
END:VALARM
END:VEVENT
END:VCALENDAR
