BEGIN:VCALENDAR
METHOD:REQUEST
PRODID:-//events.orgNONSGML ical.net 4.0//EN
VERSION:2.0
BEGIN:VEVENT
DTEND;VALUE=DATE:20260517
DTSTAMP:20260423T153909Z
DTSTART;VALUE=DATE:20260517
LOCATION:Cervantes Other Side\, Denver
ORGANIZER;CN=:mailto:events@events.org
SEQUENCE:0
SUMMARY:Concrete Boys
UID:3e10de60-6ae1-4377-8dd6-974d934a37f2
URL:https://events.org/e/Concrete-Boys/VSCRWP4P
BEGIN:VALARM
ACTION:DISPLAY
SUMMARY:Reminder
TRIGGER:-P1D
END:VALARM
END:VEVENT
END:VCALENDAR
