BEGIN:VCALENDAR
METHOD:REQUEST
PRODID:-//events.orgNONSGML ical.net 4.0//EN
VERSION:2.0
BEGIN:VEVENT
DTEND;VALUE=DATE:20260425
DTSTAMP:20260421T095308Z
DTSTART;VALUE=DATE:20260425
LOCATION:Second City-Chicago: Mainstage\, Chicago
ORGANIZER;CN=:mailto:events@events.org
SEQUENCE:0
SUMMARY:The Best of The Second City
UID:0d7d2b66-61fa-464f-b3bc-7a1f97c0b90c
URL:https://events.org/e/The-Best-of-The-Second-City/K58WHKD5
BEGIN:VALARM
ACTION:DISPLAY
SUMMARY:Reminder
TRIGGER:-P1D
END:VALARM
END:VEVENT
END:VCALENDAR
