BEGIN:VCALENDAR
METHOD:REQUEST
PRODID:-//events.orgNONSGML ical.net 4.0//EN
VERSION:2.0
BEGIN:VEVENT
DTEND;VALUE=DATE:20261113
DTSTAMP:20260422T090043Z
DTSTART;VALUE=DATE:20261113
LOCATION:House of Blues Dallas \, Dallas
ORGANIZER;CN=:mailto:events@events.org
SEQUENCE:0
SUMMARY:Streetlight Manifesto: The Presence of the Past Tour
UID:b1b8b742-84d5-4b33-98f2-183f9dac4ac5
URL:https://events.org/e/Streetlight-Manifesto-The-Presence-of-the-Pas/5OK
 7T7KG
BEGIN:VALARM
ACTION:DISPLAY
SUMMARY:Reminder
TRIGGER:-P1D
END:VALARM
END:VEVENT
END:VCALENDAR
