BEGIN:VCALENDAR
METHOD:REQUEST
PRODID:-//events.orgNONSGML ical.net 4.0//EN
VERSION:2.0
BEGIN:VEVENT
DTEND;VALUE=DATE:20261121
DTSTAMP:20260422T084502Z
DTSTART;VALUE=DATE:20261121
LOCATION:9:30 CLUB\, Washington
ORGANIZER;CN=:mailto:events@events.org
SEQUENCE:0
SUMMARY:They Might Be Giants
UID:3992c4ee-af23-4f91-a802-63f70d5f3846
URL:https://events.org/e/They-Might-Be-Giants/IPHFHX3M
BEGIN:VALARM
ACTION:DISPLAY
SUMMARY:Reminder
TRIGGER:-P1D
END:VALARM
END:VEVENT
END:VCALENDAR
