BEGIN:VCALENDAR
METHOD:REQUEST
PRODID:-//events.orgNONSGML ical.net 4.0//EN
VERSION:2.0
BEGIN:VEVENT
DTEND;VALUE=DATE:20260618
DTSTAMP:20260423T133506Z
DTSTART;VALUE=DATE:20260618
LOCATION:MilkBoy Philadelphia\, Philadelphia
ORGANIZER;CN=:mailto:events@events.org
SEQUENCE:0
SUMMARY:Esther Rose (21+ Event)
UID:f8d886d0-be87-4799-91b8-1592113f8066
URL:https://events.org/e/Esther-Rose-21-Event/XC4WXFNV
BEGIN:VALARM
ACTION:DISPLAY
SUMMARY:Reminder
TRIGGER:-P1D
END:VALARM
END:VEVENT
END:VCALENDAR
