BEGIN:VCALENDAR
METHOD:REQUEST
PRODID:-//events.orgNONSGML ical.net 4.0//EN
VERSION:2.0
BEGIN:VEVENT
DTEND;VALUE=DATE:20260718
DTSTAMP:20260421T104317Z
DTSTART;VALUE=DATE:20260718
LOCATION:Mission Ballroom\, Denver
ORGANIZER;CN=:mailto:events@events.org
SEQUENCE:0
SUMMARY:BUNT. (16 and Over)
UID:e3f54633-6f22-47f1-9861-e7f6f2aa50dc
URL:https://events.org/e/BUNT-16-and-Over/JH6HFW6W
BEGIN:VALARM
ACTION:DISPLAY
SUMMARY:Reminder
TRIGGER:-P1D
END:VALARM
END:VEVENT
END:VCALENDAR
