BEGIN:VCALENDAR
METHOD:REQUEST
PRODID:-//events.orgNONSGML ical.net 4.0//EN
VERSION:2.0
BEGIN:VEVENT
DTEND;VALUE=DATE:20260926
DTSTAMP:20260419T144100Z
DTSTART;VALUE=DATE:20260926
LOCATION:Hard Rock Stadium\, Miami
ORGANIZER;CN=:mailto:events@events.org
SEQUENCE:0
SUMMARY:Miami Hurricanes Football vs. Central Michigan Chippewas Football
UID:ae2ecf18-3d3c-4078-aece-79bad2f77981
URL:https://events.org/e/Miami-Hurricanes-Football-vs-Central-Michigan/44C
 WN4VG
BEGIN:VALARM
ACTION:DISPLAY
SUMMARY:Reminder
TRIGGER:-P1D
END:VALARM
END:VEVENT
END:VCALENDAR
