BEGIN:VCALENDAR
METHOD:REQUEST
PRODID:-//events.orgNONSGML ical.net 4.0//EN
VERSION:2.0
BEGIN:VEVENT
DTEND;VALUE=DATE:20260624
DTSTAMP:20260422T090715Z
DTSTART;VALUE=DATE:20260624
LOCATION:Sunset Tavern\, Seattle
ORGANIZER;CN=:mailto:events@events.org
SEQUENCE:0
SUMMARY:SURF HAT
UID:c8b7ecc5-b679-4154-8cec-3f8cbf7b485e
URL:https://events.org/e/SURF-HAT/T69J72KN
BEGIN:VALARM
ACTION:DISPLAY
SUMMARY:Reminder
TRIGGER:-P1D
END:VALARM
END:VEVENT
END:VCALENDAR
