BEGIN:VCALENDAR
METHOD:REQUEST
PRODID:-//events.orgNONSGML ical.net 4.0//EN
VERSION:2.0
BEGIN:VEVENT
DTEND;VALUE=DATE:20260502
DTSTAMP:20260424T080847Z
DTSTART;VALUE=DATE:20260502
LOCATION:American Airlines Center\, Dallas
ORGANIZER;CN=:mailto:events@events.org
SEQUENCE:0
SUMMARY:First Round: Wild at Stars Rd 1 Hm Gm 4
UID:a55ce4eb-abb1-4837-9293-c27d27dd0255
URL:https://events.org/e/First-Round-Wild-at-Stars-Rd-1-Hm-Gm-4/XE3KL6C5
BEGIN:VALARM
ACTION:DISPLAY
SUMMARY:Reminder
TRIGGER:-P1D
END:VALARM
END:VEVENT
END:VCALENDAR
