BEGIN:VCALENDAR
METHOD:REQUEST
PRODID:-//events.orgNONSGML ical.net 4.0//EN
VERSION:2.0
BEGIN:VEVENT
DTEND;VALUE=DATE:20260621
DTSTAMP:20260421T081735Z
DTSTART;VALUE=DATE:20260621
LOCATION:Chop Suey\, Seattle
ORGANIZER;CN=:mailto:events@events.org
SEQUENCE:0
SUMMARY:Flammable
UID:2ad6354f-270b-49f8-8669-4625ded0c29f
URL:https://events.org/e/Flammable/87PDCSYQ
BEGIN:VALARM
ACTION:DISPLAY
SUMMARY:Reminder
TRIGGER:-P1D
END:VALARM
END:VEVENT
END:VCALENDAR
