BEGIN:VCALENDAR
METHOD:REQUEST
PRODID:-//events.orgNONSGML ical.net 4.0//EN
VERSION:2.0
BEGIN:VEVENT
DTEND;VALUE=DATE:20260430
DTSTAMP:20260421T143050Z
DTSTART;VALUE=DATE:20260430
LOCATION:Nectar Lounge\, Seattle
ORGANIZER;CN=:mailto:events@events.org
SEQUENCE:0
SUMMARY:Tavana (21+ Event)
UID:ffc30b0d-9682-44d0-b6c0-27664e0723f2
URL:https://events.org/e/Tavana-21-Event/9QQ3PAM3
BEGIN:VALARM
ACTION:DISPLAY
SUMMARY:Reminder
TRIGGER:-P1D
END:VALARM
END:VEVENT
END:VCALENDAR
